BEGIN:VCALENDAR
VERSION:2.0
PRODID:-//Acme Widgets\, Inc.//NONSGML ExportToCalendar//EN
CALSCALE:GREGORIAN
BEGIN:VEVENT
DTSTAMP:20260424T173110Z
UID:ad501e6a-37f8-4b6f-9ac6-fc4e16546a0c
DTSTART:20260425T133000
DTEND:20260425T134500
DESCRIPTION:Inspection for 10 Faston Road\, KALKALLO VIC 3064
LOCATION:10 Faston Road\, KALKALLO VIC 3064
SUMMARY:10 Faston Road\, KALKALLO VIC 3064
END:VEVENT
END:VCALENDAR
