BEGIN:VCALENDAR
VERSION:2.0
PRODID:-//Acme Widgets\, Inc.//NONSGML ExportToCalendar//EN
CALSCALE:GREGORIAN
BEGIN:VEVENT
DTSTAMP:20260422T134251Z
UID:ca65be6c-8f18-4a66-8da2-e8ff815da3b1
DTSTART:20260425T103000
DTEND:20260425T110000
DESCRIPTION:Inspection for 1 Cavalry Avenue\, MERNDA VIC 3754
LOCATION:1 Cavalry Avenue\, MERNDA VIC 3754
SUMMARY:1 Cavalry Avenue\, MERNDA VIC 3754
END:VEVENT
END:VCALENDAR
