BEGIN:VCALENDAR
VERSION:2.0
PRODID:-//Acme Widgets\, Inc.//NONSGML ExportToCalendar//EN
CALSCALE:GREGORIAN
BEGIN:VEVENT
DTSTAMP:20260424T173110Z
UID:1676076c-c29f-440e-bcfc-05db0bcdc3de
DTSTART:20260425T130000
DTEND:20260425T131500
DESCRIPTION:Inspection for 37 Boomerang Road\, DONNYBROOK VIC 3064
LOCATION:37 Boomerang Road\, DONNYBROOK VIC 3064
SUMMARY:37 Boomerang Road\, DONNYBROOK VIC 3064
END:VEVENT
END:VCALENDAR
