BEGIN:VCALENDAR
VERSION:2.0
PRODID:-//Acme Widgets\, Inc.//NONSGML ExportToCalendar//EN
CALSCALE:GREGORIAN
BEGIN:VEVENT
DTSTAMP:20260422T134251Z
UID:dc7e5a97-8782-46c2-80bd-b1f300568a98
DTSTART:20260423T190000
DTEND:20260423T193000
DESCRIPTION:Inspection for 41 Gatestone Road\, EPPING VIC 3076
LOCATION:41 Gatestone Road\, EPPING VIC 3076
SUMMARY:41 Gatestone Road\, EPPING VIC 3076
END:VEVENT
END:VCALENDAR
