BEGIN:VCALENDAR
VERSION:2.0
PRODID:-//Acme Widgets\, Inc.//NONSGML ExportToCalendar//EN
CALSCALE:GREGORIAN
BEGIN:VEVENT
DTSTAMP:20260422T134306Z
UID:211caf36-3b63-414f-8ebe-653439cb53e0
DTSTART:20260425T113000
DTEND:20260425T120000
DESCRIPTION:Inspection for 41 Gatestone Road\, EPPING VIC 3076
LOCATION:41 Gatestone Road\, EPPING VIC 3076
SUMMARY:41 Gatestone Road\, EPPING VIC 3076
END:VEVENT
END:VCALENDAR
