BEGIN:VCALENDAR
VERSION:2.0
PRODID:-//Acme Widgets\, Inc.//NONSGML ExportToCalendar//EN
CALSCALE:GREGORIAN
BEGIN:VEVENT
DTSTAMP:20260422T134306Z
UID:d2c1cd72-efdc-499f-8ac0-8ca8024295c0
DTSTART:20260423T180000
DTEND:20260423T183000
DESCRIPTION:Inspection for 1 Cavalry Avenue\, MERNDA VIC 3754
LOCATION:1 Cavalry Avenue\, MERNDA VIC 3754
SUMMARY:1 Cavalry Avenue\, MERNDA VIC 3754
END:VEVENT
END:VCALENDAR
